BEGIN:VCALENDAR
PRODID:-//http://statistik.d-u-v.org//PHP ultracalendar//EN
VERSION:2.0
METHOD:PUBLISH
BEGIN:VEVENT
DTSTAMP:20260423T062811
CREATED:20150807T171629
UID:1776925691.0.38506000-28232@statistik.d-u-v.org
SUMMARY:Across the Years, 24h
DESCRIPTION: Across the Years, 24h\n
  \n
  rd[at]acrosstheyears.com
DTSTART:20151229T090000
DTEND:20151230T090000
LOCATION:Phoenix, AZ\, USA
URL:http://acrosstheyears.com/
CATEGORIES:Ultramarathon
CONTACT:
CLASS:PUBLIC
PRIORITY:5
TRANSP:OPAQUE
END:VEVENT
END:VCALENDAR
