BEGIN:VCALENDAR
PRODID:-//http://statistik.d-u-v.org//PHP ultracalendar//EN
VERSION:2.0
METHOD:PUBLISH
BEGIN:VEVENT
DTSTAMP:20260419T211113
CREATED:20150804T151501
UID:1776633073.0.47093600-28169@statistik.d-u-v.org
SUMMARY:100 km Lauf Rheine-Elte - offener Lauf
DESCRIPTION: 100 km Lauf Rheine-Elte - offener Lauf\n
  \n
  
DTSTART:19920905T000000
DTEND:00000000T235900
LOCATION:Rheine-Elte\, GER
URL:
CATEGORIES:Ultramarathon
CONTACT:
CLASS:PUBLIC
PRIORITY:5
TRANSP:OPAQUE
END:VEVENT
END:VCALENDAR
