BEGIN:VCALENDAR
PRODID:-//http://statistik.d-u-v.org//PHP ultracalendar//EN
VERSION:2.0
METHOD:PUBLISH
BEGIN:VEVENT
DTSTAMP:20260422T221420
CREATED:20150726T190654
UID:1776896060.0.02598200-28046@statistik.d-u-v.org
SUMMARY:Caboolture Historical Village 48h
DESCRIPTION: Caboolture Historical Village 48h\n
  Geoff Williams\n
  geoff[at]geoffsruns.com
DTSTART:20150807T000000
DTEND:20150809T235900
LOCATION:Caboolture, QLD\, AUS
URL:http://geoffsruns.com/
CATEGORIES:Ultramarathon
CONTACT:Geoff Williams
CLASS:PUBLIC
PRIORITY:5
TRANSP:OPAQUE
END:VEVENT
END:VCALENDAR
