BEGIN:VCALENDAR
PRODID:-//http://statistik.d-u-v.org//PHP ultracalendar//EN
VERSION:2.0
METHOD:PUBLISH
BEGIN:VEVENT
DTSTAMP:20260423T050436
CREATED:20150724T185035
UID:1776920676.0.98278000-28027@statistik.d-u-v.org
SUMMARY:San Francisco Summer Solstice 12h
DESCRIPTION: San Francisco Summer Solstice 12h\n
  \n
  events[at]pctrailruns.com
DTSTART:20140621T000000
DTEND:20140622T235900
LOCATION:San Francisco, CA\, USA
URL:http://www.pctrailruns.com/event.aspx?dtid=9958
CATEGORIES:Ultramarathon
CONTACT:
CLASS:PUBLIC
PRIORITY:5
TRANSP:OPAQUE
END:VEVENT
END:VCALENDAR
