BEGIN:VCALENDAR
PRODID:-//http://statistik.d-u-v.org//PHP ultracalendar//EN
VERSION:2.0
METHOD:PUBLISH
BEGIN:VEVENT
DTSTAMP:20260423T050504
CREATED:20150724T145612
UID:1776920704.0.27868200-28015@statistik.d-u-v.org
SUMMARY:Vermont 100 Mile Endurance Race
DESCRIPTION: Vermont 100 Mile Endurance Race\n
  Julia Hutchinson O'Brien\n
  vt100[at]vermontadaptive.org
DTSTART:20160716T040000
DTEND:20160717T100000
LOCATION:West Windsor, VT\, USA
URL:http://www.vermont100.com/
CATEGORIES:Ultramarathon
CONTACT:Julia Hutchinson O'Brien
CLASS:PUBLIC
PRIORITY:5
TRANSP:OPAQUE
END:VEVENT
END:VCALENDAR
