BEGIN:VCALENDAR
PRODID:-//http://statistik.d-u-v.org//PHP ultracalendar//EN
VERSION:2.0
METHOD:PUBLISH
BEGIN:VEVENT
DTSTAMP:20260419T192502
CREATED:20150706T154213
UID:1776626702.0.26512600-27806@statistik.d-u-v.org
SUMMARY:Squamish 50km
DESCRIPTION: Squamish 50km\n
  Gary Robbins\n
  run[at]squamish50.com
DTSTART:20150823T060000
DTEND:00000000T235900
LOCATION:Alice Lake, BC\, CAN
URL:http://www.squamish50.com
CATEGORIES:Ultramarathon
CONTACT:Gary Robbins
CLASS:PUBLIC
PRIORITY:5
TRANSP:OPAQUE
END:VEVENT
END:VCALENDAR
