BEGIN:VCALENDAR
PRODID:-//http://statistik.d-u-v.org//PHP ultracalendar//EN
VERSION:2.0
METHOD:PUBLISH
BEGIN:VEVENT
DTSTAMP:20260419T220819
CREATED:20150530T232653
UID:1776636499.0.35520400-27537@statistik.d-u-v.org
SUMMARY:Quicksilver 50 Mile Endurance Run
DESCRIPTION: Quicksilver 50 Mile Endurance Run\n
  \n
  
DTSTART:19930508T000000
DTEND:00000000T235900
LOCATION:San Jose, CA\, USA
URL:
CATEGORIES:Ultramarathon
CONTACT:
CLASS:PUBLIC
PRIORITY:5
TRANSP:OPAQUE
END:VEVENT
END:VCALENDAR
