BEGIN:VCALENDAR
PRODID:-//http://statistik.d-u-v.org//PHP ultracalendar//EN
VERSION:2.0
METHOD:PUBLISH
BEGIN:VEVENT
DTSTAMP:20260424T192447
CREATED:20090322T183258
UID:1777058687.0.55321100-2751@statistik.d-u-v.org
SUMMARY:Wörschacher 24-Stunden Benefizlauf
DESCRIPTION: Wörschacher 24-Stunden Benefizlauf\n
  Harald Scherz\n
  info[at]24stundenlauf.at
DTSTART:20030720T000000
DTEND:20030721T235900
LOCATION:Wörschach\, AUT
URL:http://www.24stundenlauf.at
CATEGORIES:Ultramarathon
CONTACT:Harald Scherz
CLASS:PUBLIC
PRIORITY:5
TRANSP:OPAQUE
END:VEVENT
END:VCALENDAR
