BEGIN:VCALENDAR
PRODID:-//http://statistik.d-u-v.org//PHP ultracalendar//EN
VERSION:2.0
METHOD:PUBLISH
BEGIN:VEVENT
DTSTAMP:20260424T062725
CREATED:20150530T105233
UID:1777012045.0.13872900-27509@statistik.d-u-v.org
SUMMARY:Skechers Ultramaraton 100 km - 50km Split
DESCRIPTION: Skechers Ultramaraton 100 km - 50km Split\n
  Per Bromerholm\n
  bifmotion[at]hotmail.dk
DTSTART:20150524T080000
DTEND:00000000T235900
LOCATION:Bramming\, DEN
URL:http://www.skechersultra.dk/
CATEGORIES:Ultramarathon
CONTACT:Per Bromerholm
CLASS:PUBLIC
PRIORITY:5
TRANSP:OPAQUE
END:VEVENT
END:VCALENDAR
