BEGIN:VCALENDAR
PRODID:-//http://statistik.d-u-v.org//PHP ultracalendar//EN
VERSION:2.0
METHOD:PUBLISH
BEGIN:VEVENT
DTSTAMP:20260423T034919
CREATED:20090317T174208
UID:1776916159.0.02599700-2743@statistik.d-u-v.org
SUMMARY:Self-Transcendence Race, 24h Kladno
DESCRIPTION: Self-Transcendence Race, 24h Kladno\n
  Jaroslav Rosa\n
  
DTSTART:20040731T180000
DTEND:20040801T180000
LOCATION:Kladno\, CZE
URL:http://www.srichinmoyraces.org/cs/48h_24h_Kladno/2004
CATEGORIES:Ultramarathon
CONTACT:Jaroslav Rosa
CLASS:PUBLIC
PRIORITY:5
TRANSP:OPAQUE
END:VEVENT
END:VCALENDAR
