BEGIN:VCALENDAR
PRODID:-//http://statistik.d-u-v.org//PHP ultracalendar//EN
VERSION:2.0
METHOD:PUBLISH
BEGIN:VEVENT
DTSTAMP:20260419T202826
CREATED:20150511T213509
UID:1776630506.0.84502100-27243@statistik.d-u-v.org
SUMMARY:VXO Ultra
DESCRIPTION: VXO Ultra\n
  Lisa Långström\n
  lisa[at]pepup.se
DTSTART:20151121T090000
DTEND:00000000T235900
LOCATION:Växjö\, SWE
URL:http://pepup.se/arrangemang/
CATEGORIES:Ultramarathon
CONTACT:Lisa Långström
CLASS:PUBLIC
PRIORITY:5
TRANSP:OPAQUE
END:VEVENT
END:VCALENDAR
