BEGIN:VCALENDAR
PRODID:-//http://statistik.d-u-v.org//PHP ultracalendar//EN
VERSION:2.0
METHOD:PUBLISH
BEGIN:VEVENT
DTSTAMP:20260424T190213
CREATED:20090310T000000
UID:1777057333.0.64685600-2717@statistik.d-u-v.org
SUMMARY:Wörschacher 24-Stunden Benefizlauf
DESCRIPTION: Wörschacher 24-Stunden Benefizlauf\n
  Harald Scherz\n
  info[at]24stundenlauf.at
DTSTART:20040717T000000
DTEND:20040718T235900
LOCATION:Wörschach\, AUT
URL:http://www.24stundenlauf.at
CATEGORIES:Ultramarathon
CONTACT:Harald Scherz
CLASS:PUBLIC
PRIORITY:5
TRANSP:OPAQUE
END:VEVENT
END:VCALENDAR
