BEGIN:VCALENDAR
PRODID:-//http://statistik.d-u-v.org//PHP ultracalendar//EN
VERSION:2.0
METHOD:PUBLISH
BEGIN:VEVENT
DTSTAMP:20260423T022658
CREATED:20150507T124544
UID:1776911218.0.44369000-27158@statistik.d-u-v.org
SUMMARY:Trailstoke 55K
DESCRIPTION: Trailstoke 55K\n
  \n
  info[at]5peaks.com
DTSTART:20150829T000000
DTEND:00000000T235900
LOCATION:Revelstoke, BC\, CAN
URL:http://trailstoke.5peaks.com/trailstoke-revy/event-info/
CATEGORIES:Ultramarathon
CONTACT:
CLASS:PUBLIC
PRIORITY:5
TRANSP:OPAQUE
END:VEVENT
END:VCALENDAR
