BEGIN:VCALENDAR
PRODID:-//http://statistik.d-u-v.org//PHP ultracalendar//EN
VERSION:2.0
METHOD:PUBLISH
BEGIN:VEVENT
DTSTAMP:20260421T155029
CREATED:20150506T162903
UID:1776786629.0.07161600-27148@statistik.d-u-v.org
SUMMARY:24 heures 'No Finish Line', Monaco
DESCRIPTION: 24 heures 'No Finish Line', Monaco\n
  \n
  philippe[at]nofinishline.com
DTSTART:20151121T080000
DTEND:20151122T235900
LOCATION:Monaco\, MON
URL:http://www.nofinishline.com
CATEGORIES:Ultramarathon
CONTACT:
CLASS:PUBLIC
PRIORITY:5
TRANSP:OPAQUE
END:VEVENT
END:VCALENDAR
