BEGIN:VCALENDAR
PRODID:-//http://statistik.d-u-v.org//PHP ultracalendar//EN
VERSION:2.0
METHOD:PUBLISH
BEGIN:VEVENT
DTSTAMP:20260423T011059
CREATED:20150422T160134
UID:1776906659.0.33155600-27012@statistik.d-u-v.org
SUMMARY:Beskydy Ultra Trail (BUT) 120km
DESCRIPTION: Beskydy Ultra Trail (BUT) 120km\n
  Michal Kolodziejczyk\n
  beskidyultratrail[at]gmail.com
DTSTART:20151003T040000
DTEND:00000000T235900
LOCATION:Bielsko-Biala\, POL
URL:http://www.beskidyultratrail.com/
CATEGORIES:Ultramarathon
CONTACT:Michal Kolodziejczyk
CLASS:PUBLIC
PRIORITY:5
TRANSP:OPAQUE
END:VEVENT
END:VCALENDAR
