BEGIN:VCALENDAR
PRODID:-//http://statistik.d-u-v.org//PHP ultracalendar//EN
VERSION:2.0
METHOD:PUBLISH
BEGIN:VEVENT
DTSTAMP:20260423T020327
CREATED:20150327T162043
UID:1776909807.0.73141700-26835@statistik.d-u-v.org
SUMMARY:Dawn to Dusk to Dawn 12 Hour
DESCRIPTION: Dawn to Dusk to Dawn 12 Hour\n
  Bill Schultz\n
  brynmawrracing[at]gmail.com
DTSTART:20150530T070000
DTEND:20150531T070000
LOCATION:Sharon Hill, PA\, USA
URL:http://brynmawrracing.com/
CATEGORIES:Ultramarathon
CONTACT:Bill Schultz
CLASS:PUBLIC
PRIORITY:5
TRANSP:OPAQUE
END:VEVENT
END:VCALENDAR
