BEGIN:VCALENDAR
PRODID:-//http://statistik.d-u-v.org//PHP ultracalendar//EN
VERSION:2.0
METHOD:PUBLISH
BEGIN:VEVENT
DTSTAMP:20260424T204324
CREATED:20150209T180103
UID:1777063404.0.13475500-26482@statistik.d-u-v.org
SUMMARY:PAU Tanay 50K Ultra Run
DESCRIPTION: PAU Tanay 50K Ultra Run\n
  \n
  jovie75[at]hotmail.com
DTSTART:20151004T050000
DTEND:00000000T235900
LOCATION:Tanay, Rizal\, PHI
URL:https://www.facebook.com/events/474041459410002
CATEGORIES:Ultramarathon
CONTACT:
CLASS:PUBLIC
PRIORITY:5
TRANSP:OPAQUE
END:VEVENT
END:VCALENDAR
