BEGIN:VCALENDAR
PRODID:-//http://statistik.d-u-v.org//PHP ultracalendar//EN
VERSION:2.0
METHOD:PUBLISH
BEGIN:VEVENT
DTSTAMP:20260422T071545
CREATED:20150202T102131
UID:1776842145.0.98406400-26343@statistik.d-u-v.org
SUMMARY:Cesis Eco Trail
DESCRIPTION: Cesis Eco Trail\n
  Arnis Dzalbs\n
  dzalbs[at]gmail.com
DTSTART:20150801T100000
DTEND:00000000T235900
LOCATION:Cesis\, LAT
URL:http://www.cet.lv/index.php/lv/
CATEGORIES:Ultramarathon
CONTACT:Arnis Dzalbs
CLASS:PUBLIC
PRIORITY:5
TRANSP:OPAQUE
END:VEVENT
END:VCALENDAR
