BEGIN:VCALENDAR
PRODID:-//http://statistik.d-u-v.org//PHP ultracalendar//EN
VERSION:2.0
METHOD:PUBLISH
BEGIN:VEVENT
DTSTAMP:20260419T223255
CREATED:20150122T202302
UID:1776637975.0.51365900-26294@statistik.d-u-v.org
SUMMARY:Real kick Winter Ultralauf
DESCRIPTION: Real kick Winter Ultralauf\n
  Michael Frenz\n
  meldelaeufer[at]t-online.de
DTSTART:20151114T080000
DTEND:20151115T080000
LOCATION:Bonn\, GER
URL:http://www.meldelaeufer.de
CATEGORIES:Ultramarathon
CONTACT:Michael Frenz
CLASS:PUBLIC
PRIORITY:5
TRANSP:OPAQUE
END:VEVENT
END:VCALENDAR
