BEGIN:VCALENDAR
PRODID:-//http://statistik.d-u-v.org//PHP ultracalendar//EN
VERSION:2.0
METHOD:PUBLISH
BEGIN:VEVENT
DTSTAMP:20260424T205526
CREATED:20150113T152453
UID:1777064126.0.62514900-26097@statistik.d-u-v.org
SUMMARY:Old Goat's 50 Mile Trail Race
DESCRIPTION: Old Goat's 50 Mile Trail Race\n
  Steve Harvey\n
  ultradawg[at]gmail.com
DTSTART:20140322T000000
DTEND:00000000T235900
LOCATION:San Juan Capistrano, CA\, USA
URL:http://www.oldgoatrunners.com/old_goat_50_home_page_005.htm
CATEGORIES:Ultramarathon
CONTACT:Steve Harvey
CLASS:PUBLIC
PRIORITY:5
TRANSP:OPAQUE
END:VEVENT
END:VCALENDAR
