BEGIN:VCALENDAR
PRODID:-//http://statistik.d-u-v.org//PHP ultracalendar//EN
VERSION:2.0
METHOD:PUBLISH
BEGIN:VEVENT
DTSTAMP:20260424T155249
CREATED:20150112T180130
UID:1777045969.0.38272200-26047@statistik.d-u-v.org
SUMMARY:Mile High 24 Hour Run
DESCRIPTION: Mile High 24 Hour Run\n
  \n
  
DTSTART:19980606T000000
DTEND:19980607T235900
LOCATION:Littleton, CO\, USA
URL:
CATEGORIES:Ultramarathon
CONTACT:
CLASS:PUBLIC
PRIORITY:5
TRANSP:OPAQUE
END:VEVENT
END:VCALENDAR
