BEGIN:VCALENDAR
PRODID:-//http://statistik.d-u-v.org//PHP ultracalendar//EN
VERSION:2.0
METHOD:PUBLISH
BEGIN:VEVENT
DTSTAMP:20260423T023922
CREATED:20150108T193635
UID:1776911962.0.68120200-25974@statistik.d-u-v.org
SUMMARY:Corrida 24 Horas de Brasilia
DESCRIPTION: Corrida 24 Horas de Brasilia\n
  Maria Emilia Pasquarelli Vieira/Maria Cristina Vie\n
  corrida24horasdebrasilia[at]gmail.com
DTSTART:20150704T090000
DTEND:20150705T090000
LOCATION:Brasilia, DF\, BRA
URL:http://www.corrida24horasdebrasilia.com.br/
CATEGORIES:Ultramarathon
CONTACT:Maria Emilia Pasquarelli Vieira/Maria Cristina Vie
CLASS:PUBLIC
PRIORITY:5
TRANSP:OPAQUE
END:VEVENT
END:VCALENDAR
