BEGIN:VCALENDAR
PRODID:-//http://statistik.d-u-v.org//PHP ultracalendar//EN
VERSION:2.0
METHOD:PUBLISH
BEGIN:VEVENT
DTSTAMP:20260424T155309
CREATED:20140815T215421
UID:1777045989.0.32184200-25959@statistik.d-u-v.org
SUMMARY:Wildcat 100 - 100 Km Race
DESCRIPTION: Wildcat 100 - 100 Km Race\n
  Race director Aaron Thompson\n
  aaronthompson21[at]gmail.com
DTSTART:20150103T080000
DTEND:20150105T235900
LOCATION:Pensacola, FL\, USA
URL:https://ultrasignup.com/register.aspx?did=29293
CATEGORIES:Ultramarathon
CONTACT:Race director Aaron Thompson
CLASS:PUBLIC
PRIORITY:5
TRANSP:OPAQUE
END:VEVENT
END:VCALENDAR
