BEGIN:VCALENDAR
PRODID:-//http://statistik.d-u-v.org//PHP ultracalendar//EN
VERSION:2.0
METHOD:PUBLISH
BEGIN:VEVENT
DTSTAMP:20260419T192219
CREATED:20141230T181034
UID:1776626539.0.40446300-25779@statistik.d-u-v.org
SUMMARY:The Cumbria Way Ultra
DESCRIPTION: The Cumbria Way Ultra\n
  Gaynor Prior\n
  info[at]pureoutdoorsevents.co.uk
DTSTART:20150919T060000
DTEND:20150920T235900
LOCATION:Carlisle\, GBR
URL:http://www.pureoutdoorsevents.co.uk
CATEGORIES:Ultramarathon
CONTACT:Gaynor Prior
CLASS:PUBLIC
PRIORITY:5
TRANSP:OPAQUE
END:VEVENT
END:VCALENDAR
