BEGIN:VCALENDAR
PRODID:-//http://statistik.d-u-v.org//PHP ultracalendar//EN
VERSION:2.0
METHOD:PUBLISH
BEGIN:VEVENT
DTSTAMP:20260419T213505
CREATED:20141229T170943
UID:1776634505.0.42070200-25735@statistik.d-u-v.org
SUMMARY:Strolling Jim 40 Mile
DESCRIPTION: Strolling Jim 40 Mile\n
  \n
  
DTSTART:19790505T000000
DTEND:00000000T235900
LOCATION:Wartrace, TN\, USA
URL:http://www.sj40mile.com/
CATEGORIES:Ultramarathon
CONTACT:
CLASS:PUBLIC
PRIORITY:5
TRANSP:OPAQUE
END:VEVENT
END:VCALENDAR
