BEGIN:VCALENDAR
PRODID:-//http://statistik.d-u-v.org//PHP ultracalendar//EN
VERSION:2.0
METHOD:PUBLISH
BEGIN:VEVENT
DTSTAMP:20260423T023819
CREATED:20071104T000000
UID:1776911899.0.58195400-2571@statistik.d-u-v.org
SUMMARY:Sri Chinmoy 24 Stundenlauf Köln
DESCRIPTION: Sri Chinmoy 24 Stundenlauf Köln\n
  \n
  
DTSTART:19910706T000000
DTEND:19910707T235900
LOCATION:Köln\, GER
URL:
CATEGORIES:Ultramarathon
CONTACT:
CLASS:PUBLIC
PRIORITY:5
TRANSP:OPAQUE
END:VEVENT
END:VCALENDAR
