BEGIN:VCALENDAR
PRODID:-//http://statistik.d-u-v.org//PHP ultracalendar//EN
VERSION:2.0
METHOD:PUBLISH
BEGIN:VEVENT
DTSTAMP:20260419T164925
CREATED:20140106T180340
UID:1776617365.0.52627500-25662@statistik.d-u-v.org
SUMMARY:North Coast 24 Hour Endurance Run - 100mi Split
DESCRIPTION: North Coast 24 Hour Endurance Run - 100mi Split\n
  Frank Dwyer\n
  runhorvathrun[at]hotmail.com
DTSTART:20140920T090000
DTEND:20140921T235900
LOCATION:Cleveland, OH\, USA
URL:http://www.northcoast24.org/
CATEGORIES:Ultramarathon
CONTACT:Frank Dwyer
CLASS:PUBLIC
PRIORITY:5
TRANSP:OPAQUE
END:VEVENT
END:VCALENDAR
