BEGIN:VCALENDAR
PRODID:-//http://statistik.d-u-v.org//PHP ultracalendar//EN
VERSION:2.0
METHOD:PUBLISH
BEGIN:VEVENT
DTSTAMP:20260423T070100
CREATED:20141220T111145
UID:1776927660.0.31087000-25654@statistik.d-u-v.org
SUMMARY:Trail des Balcons d'Azur 47 km
DESCRIPTION: Trail des Balcons d'Azur 47 km\n
  Cordero Philippe\n
  filouge[at]orange.fr
DTSTART:20150426T070000
DTEND:00000000T235900
LOCATION:Mandelieu-la-Napoule\, FRA
URL:http://www.traildazur.com/
CATEGORIES:Ultramarathon
CONTACT:Cordero Philippe
CLASS:PUBLIC
PRIORITY:5
TRANSP:OPAQUE
END:VEVENT
END:VCALENDAR
