BEGIN:VCALENDAR
PRODID:-//http://statistik.d-u-v.org//PHP ultracalendar//EN
VERSION:2.0
METHOD:PUBLISH
BEGIN:VEVENT
DTSTAMP:20260420T041205
CREATED:20150428T171908
UID:1776658325.0.57019500-25652@statistik.d-u-v.org
SUMMARY:PCT 50 Mile Trail Run
DESCRIPTION: PCT 50 Mile Trail Run\n
  Race Director John 'El Cubano' Martinez\n
  
DTSTART:20150509T060000
DTEND:00000000T235900
LOCATION:Pine Valley, CA\, USA
URL:http://www.pct50.com/
CATEGORIES:Ultramarathon
CONTACT:Race Director John 'El Cubano' Martinez
CLASS:PUBLIC
PRIORITY:5
TRANSP:OPAQUE
END:VEVENT
END:VCALENDAR
