BEGIN:VCALENDAR
PRODID:-//http://statistik.d-u-v.org//PHP ultracalendar//EN
VERSION:2.0
METHOD:PUBLISH
BEGIN:VEVENT
DTSTAMP:20260419T213348
CREATED:20160218T155856
UID:1776634428.0.59003000-25634@statistik.d-u-v.org
SUMMARY:Anchorage RunFest - 49K Ultra
DESCRIPTION: Anchorage RunFest - 49K Ultra\n
  \n
  sharron[at]bwlr.org
DTSTART:20150816T080000
DTEND:00000000T235900
LOCATION:Anchorage, AK\, USA
URL:http://www.bigwildliferuns.org/index.html
CATEGORIES:Ultramarathon
CONTACT:
CLASS:PUBLIC
PRIORITY:5
TRANSP:OPAQUE
END:VEVENT
END:VCALENDAR
