BEGIN:VCALENDAR
PRODID:-//http://statistik.d-u-v.org//PHP ultracalendar//EN
VERSION:2.0
METHOD:PUBLISH
BEGIN:VEVENT
DTSTAMP:20260423T062859
CREATED:20151014T171156
UID:1776925739.0.50588100-25631@statistik.d-u-v.org
SUMMARY:City2City Ultra Marathon
DESCRIPTION: City2City Ultra Marathon\n
  Danielle Shapiro\n
  data[at]sportsvendo.co.za
DTSTART:20150927T063000
DTEND:00000000T235900
LOCATION:Pretoria\, RSA
URL:https://www.facebook.com/city2citymarathon/
CATEGORIES:Ultramarathon
CONTACT:Danielle Shapiro
CLASS:PUBLIC
PRIORITY:5
TRANSP:OPAQUE
END:VEVENT
END:VCALENDAR
