BEGIN:VCALENDAR
PRODID:-//http://statistik.d-u-v.org//PHP ultracalendar//EN
VERSION:2.0
METHOD:PUBLISH
BEGIN:VEVENT
DTSTAMP:20260419T173548
CREATED:20140417T113821
UID:1776620148.0.93508000-25628@statistik.d-u-v.org
SUMMARY:Black Mountains Ultra Run
DESCRIPTION: Black Mountains Ultra Run\n
  \n
  
DTSTART:20150912T000000
DTEND:00000000T235900
LOCATION:Talgarth, Brecon, Powys\, GBR
URL:http://www.mightcontainnuts.com/events/
CATEGORIES:Ultramarathon
CONTACT:
CLASS:PUBLIC
PRIORITY:5
TRANSP:OPAQUE
END:VEVENT
END:VCALENDAR
