BEGIN:VCALENDAR
PRODID:-//http://statistik.d-u-v.org//PHP ultracalendar//EN
VERSION:2.0
METHOD:PUBLISH
BEGIN:VEVENT
DTSTAMP:20260422T221425
CREATED:20141210T181057
UID:1776896065.0.39445800-25504@statistik.d-u-v.org
SUMMARY:Run Woodstock - 100 Mile Hallucination Run
DESCRIPTION: Run Woodstock - 100 Mile Hallucination Run\n
  Dawn McConnachie\n
  events[at]runningfit.com
DTSTART:20150912T160000
DTEND:20150913T220000
LOCATION:Pinckney, MI\, USA
URL:http://www.runwoodstock.com/
CATEGORIES:Ultramarathon
CONTACT:Dawn McConnachie
CLASS:PUBLIC
PRIORITY:5
TRANSP:OPAQUE
END:VEVENT
END:VCALENDAR
