BEGIN:VCALENDAR
PRODID:-//http://statistik.d-u-v.org//PHP ultracalendar//EN
VERSION:2.0
METHOD:PUBLISH
BEGIN:VEVENT
DTSTAMP:20260423T002737
CREATED:20141209T145710
UID:1776904057.0.84757300-25479@statistik.d-u-v.org
SUMMARY:Putrajaya 100 - 100 Miles Run
DESCRIPTION: Putrajaya 100 - 100 Miles Run\n
  Zulkifli Zainal\n
  pacatteam[at]gmail.com
DTSTART:20141122T070000
DTEND:20141123T235900
LOCATION:Putrajaya\, MAS
URL:http://p100.teampacat.com
CATEGORIES:Ultramarathon
CONTACT:Zulkifli Zainal
CLASS:PUBLIC
PRIORITY:5
TRANSP:OPAQUE
END:VEVENT
END:VCALENDAR
