BEGIN:VCALENDAR
PRODID:-//http://statistik.d-u-v.org//PHP ultracalendar//EN
VERSION:2.0
METHOD:PUBLISH
BEGIN:VEVENT
DTSTAMP:20260419T183402
CREATED:20141203T205420
UID:1776623642.0.19904900-25361@statistik.d-u-v.org
SUMMARY:Sri Chinmoy 10 Day Race
DESCRIPTION: Sri Chinmoy 10 Day Race\n
  Sahishnu Szczesiul\n
  scmtny[at]earthlink.net
DTSTART:20150419T120000
DTEND:20150429T120000
LOCATION:New York, NY\, USA
URL:http://us.srichinmoyraces.org/events/10-day-race
CATEGORIES:Ultramarathon
CONTACT:Sahishnu Szczesiul
CLASS:PUBLIC
PRIORITY:5
TRANSP:OPAQUE
END:VEVENT
END:VCALENDAR
