BEGIN:VCALENDAR
PRODID:-//http://statistik.d-u-v.org//PHP ultracalendar//EN
VERSION:2.0
METHOD:PUBLISH
BEGIN:VEVENT
DTSTAMP:20260423T070101
CREATED:20141201T172820
UID:1776927661.0.56035700-25272@statistik.d-u-v.org
SUMMARY:Cascade Crest Classic 100 Mile
DESCRIPTION: Cascade Crest Classic 100 Mile\n
  Charlie Crissman\n
  charliecrissman[at]gmail.com
DTSTART:20150829T000000
DTEND:20150830T235900
LOCATION:Easton, WA\, USA
URL:http://www.cascadecrest100.com/
CATEGORIES:Ultramarathon
CONTACT:Charlie Crissman
CLASS:PUBLIC
PRIORITY:5
TRANSP:OPAQUE
END:VEVENT
END:VCALENDAR
