BEGIN:VCALENDAR
PRODID:-//http://statistik.d-u-v.org//PHP ultracalendar//EN
VERSION:2.0
METHOD:PUBLISH
BEGIN:VEVENT
DTSTAMP:20260421T204359
CREATED:20141128T153137
UID:1776804239.0.75317900-25199@statistik.d-u-v.org
SUMMARY:6/12 hour Self Transcendence Run Nitra
DESCRIPTION: 6/12 hour Self Transcendence Run Nitra\n
  Pranjal Milovnik\n
  scmt[at]scmt.sk
DTSTART:20150509T070000
DTEND:00000000T235900
LOCATION:Nitra\, SVK
URL:http://cs.srichinmoyraces.org
CATEGORIES:Ultramarathon
CONTACT:Pranjal Milovnik
CLASS:PUBLIC
PRIORITY:5
TRANSP:OPAQUE
END:VEVENT
END:VCALENDAR
