BEGIN:VCALENDAR
PRODID:-//http://statistik.d-u-v.org//PHP ultracalendar//EN
VERSION:2.0
METHOD:PUBLISH
BEGIN:VEVENT
DTSTAMP:20260420T000627
CREATED:20141127T162443
UID:1776643587.0.88539500-25177@statistik.d-u-v.org
SUMMARY:Hardrock Hundred Endurance Run
DESCRIPTION: Hardrock Hundred Endurance Run\n
  Dale Garland\n
  hardrock100[at]bresnan.net
DTSTART:20150710T060000
DTEND:20150711T235900
LOCATION:Silverton, CO\, USA
URL:http://www.hardrock100.com/
CATEGORIES:Ultramarathon
CONTACT:Dale Garland
CLASS:PUBLIC
PRIORITY:5
TRANSP:OPAQUE
END:VEVENT
END:VCALENDAR
