BEGIN:VCALENDAR
PRODID:-//http://statistik.d-u-v.org//PHP ultracalendar//EN
VERSION:2.0
METHOD:PUBLISH
BEGIN:VEVENT
DTSTAMP:20260423T033651
CREATED:20150807T171629
UID:1776915411.0.64617900-25029@statistik.d-u-v.org
SUMMARY:Cloudland Canyon 50 Mile Race
DESCRIPTION: Cloudland Canyon 50 Mile Race\n
  Race Director Sean Blanton\n
  sean[at]runbumtours.com
DTSTART:20170107T000000
DTEND:00000000T235900
LOCATION:Rising Fawn, GA\, USA
URL:http://www.runbumtours.com/#!cloudland-canyon-1150m-/c1uqg
CATEGORIES:Ultramarathon
CONTACT:Race Director Sean Blanton
CLASS:PUBLIC
PRIORITY:5
TRANSP:OPAQUE
END:VEVENT
END:VCALENDAR
