BEGIN:VCALENDAR
PRODID:-//http://statistik.d-u-v.org//PHP ultracalendar//EN
VERSION:2.0
METHOD:PUBLISH
BEGIN:VEVENT
DTSTAMP:20260423T203016
CREATED:20141121T095526
UID:1776976216.0.66811200-25019@statistik.d-u-v.org
SUMMARY:Le TREG Ennedi Trail
DESCRIPTION: Le TREG Ennedi Trail\n
  Jean-Philippe ALLAIRE\n
  contact[at]le-treg.com
DTSTART:20150205T070000
DTEND:20150207T190000
LOCATION:Ennedi\, CHA
URL:http://www.le-treg.com/en/
CATEGORIES:Ultramarathon
CONTACT:Jean-Philippe ALLAIRE
CLASS:PUBLIC
PRIORITY:5
TRANSP:OPAQUE
END:VEVENT
END:VCALENDAR
