BEGIN:VCALENDAR
PRODID:-//http://statistik.d-u-v.org//PHP ultracalendar//EN
VERSION:2.0
METHOD:PUBLISH
BEGIN:VEVENT
DTSTAMP:20260419T164353
CREATED:20141121T172802
UID:1776617033.0.08383700-24975@statistik.d-u-v.org
SUMMARY:Pinhoti 100 Mile
DESCRIPTION: Pinhoti 100 Mile\n
  Todd Henderson\n
  
DTSTART:20151107T000000
DTEND:20151108T235900
LOCATION:Heflin, AL\, USA
URL:http://www.pinhotitrailseries.com/
CATEGORIES:Ultramarathon
CONTACT:Todd Henderson
CLASS:PUBLIC
PRIORITY:5
TRANSP:OPAQUE
END:VEVENT
END:VCALENDAR
