BEGIN:VCALENDAR
PRODID:-//http://statistik.d-u-v.org//PHP ultracalendar//EN
VERSION:2.0
METHOD:PUBLISH
BEGIN:VEVENT
DTSTAMP:20260420T003911
CREATED:20141121T172802
UID:1776645551.0.53488300-24967@statistik.d-u-v.org
SUMMARY:Hog's Hunt 50K Trail Run
DESCRIPTION: Hog's Hunt 50K Trail Run\n
  Paul Stone\n
  badwater75757[at]yahoo.com
DTSTART:20140510T000000
DTEND:00000000T235900
LOCATION:Huntsville, TX\, USA
URL:http://www.trail-race.com/stone/hogs_hunt/
CATEGORIES:Ultramarathon
CONTACT:Paul Stone
CLASS:PUBLIC
PRIORITY:5
TRANSP:OPAQUE
END:VEVENT
END:VCALENDAR
