BEGIN:VCALENDAR
PRODID:-//http://statistik.d-u-v.org//PHP ultracalendar//EN
VERSION:2.0
METHOD:PUBLISH
BEGIN:VEVENT
DTSTAMP:20260423T055229
CREATED:20141106T134146
UID:1776923549.0.04499900-24798@statistik.d-u-v.org
SUMMARY:Cool Moon 100 Mile Endurance Run
DESCRIPTION: Cool Moon 100 Mile Endurance Run\n
  \n
  elementalrunning[at]gmail.com
DTSTART:20150808T000000
DTEND:20150809T235900
LOCATION:Cool, CA\, USA
URL:http://elementalrunning.com/cool-moon/
CATEGORIES:Ultramarathon
CONTACT:
CLASS:PUBLIC
PRIORITY:5
TRANSP:OPAQUE
END:VEVENT
END:VCALENDAR
