BEGIN:VCALENDAR
PRODID:-//http://statistik.d-u-v.org//PHP ultracalendar//EN
VERSION:2.0
METHOD:PUBLISH
BEGIN:VEVENT
DTSTAMP:20260419T185901
CREATED:20150401T175709
UID:1776625141.0.57588900-24651@statistik.d-u-v.org
SUMMARY:Moab's Alpine to Slickrock 50mi
DESCRIPTION: Moab's Alpine to Slickrock 50mi\n
  Chris Martinez, Justin Ricks\n
  grassroots.events[at]yahoo.com
DTSTART:20150704T050000
DTEND:00000000T235900
LOCATION:Moab, UT\, USA
URL:http://grassrootsevents.net/moabs-alpine-to-slickrock-50-mile/
CATEGORIES:Ultramarathon
CONTACT:Chris Martinez, Justin Ricks
CLASS:PUBLIC
PRIORITY:5
TRANSP:OPAQUE
END:VEVENT
END:VCALENDAR
