BEGIN:VCALENDAR
PRODID:-//http://statistik.d-u-v.org//PHP ultracalendar//EN
VERSION:2.0
METHOD:PUBLISH
BEGIN:VEVENT
DTSTAMP:20260419T192444
CREATED:20141029T165218
UID:1776626684.0.35584400-24594@statistik.d-u-v.org
SUMMARY:TARC Wapack and Back 50 Mile Trail Race
DESCRIPTION: TARC Wapack and Back 50 Mile Trail Race\n
  Norm Sheppard\n
  wapacktrailracecontact[at]yahoogroups.com
DTSTART:20150509T050000
DTEND:00000000T235900
LOCATION:Ashburnham, MA\, USA
URL:http://www.wapacktrailrace.com/
CATEGORIES:Ultramarathon
CONTACT:Norm Sheppard
CLASS:PUBLIC
PRIORITY:5
TRANSP:OPAQUE
END:VEVENT
END:VCALENDAR
