BEGIN:VCALENDAR
PRODID:-//http://statistik.d-u-v.org//PHP ultracalendar//EN
VERSION:2.0
METHOD:PUBLISH
BEGIN:VEVENT
DTSTAMP:20260423T035828
CREATED:20141027T155457
UID:1776916708.0.32571700-24562@statistik.d-u-v.org
SUMMARY:South Downs Way 100 Mile Race
DESCRIPTION: South Downs Way 100 Mile Race\n
  \n
  racedirector[at]centurionrunning.com
DTSTART:20150613T060000
DTEND:20150614T235900
LOCATION:Winchester\, GBR
URL:http://www.centurionrunning.com/south-downs-way/south-downs-way-100
CATEGORIES:Ultramarathon
CONTACT:
CLASS:PUBLIC
PRIORITY:5
TRANSP:OPAQUE
END:VEVENT
END:VCALENDAR
