BEGIN:VCALENDAR
PRODID:-//http://statistik.d-u-v.org//PHP ultracalendar//EN
VERSION:2.0
METHOD:PUBLISH
BEGIN:VEVENT
DTSTAMP:20260420T000718
CREATED:20140923T133420
UID:1776643638.0.14719800-24280@statistik.d-u-v.org
SUMMARY:The Joust 24hr Race
DESCRIPTION: The Joust 24hr Race\n
  Steven Worrallo\n
  info[at]ultrarunningltd.co.uk
DTSTART:20130817T120000
DTEND:20130818T120000
LOCATION:Worcester\, GBR
URL:http://www.ultrarunning.uk.com/
CATEGORIES:Ultramarathon
CONTACT:Steven Worrallo
CLASS:PUBLIC
PRIORITY:5
TRANSP:OPAQUE
END:VEVENT
END:VCALENDAR
