BEGIN:VCALENDAR
PRODID:-//http://statistik.d-u-v.org//PHP ultracalendar//EN
VERSION:2.0
METHOD:PUBLISH
BEGIN:VEVENT
DTSTAMP:20260422T084448
CREATED:20140826T170741
UID:1776847488.0.43520400-24193@statistik.d-u-v.org
SUMMARY:12 órás verseny Ultrafutó - 100 km Split
DESCRIPTION: 12 órás verseny Ultrafutó - 100 km Split\n
  Barnabas Bardos\n
  barnabas.bardos[at]cardiocontrol.hu
DTSTART:20140906T100000
DTEND:00000000T235900
LOCATION:Budapest\, HUN
URL:http://www.ironteam.hu/index.php?a=9&verseny=29
CATEGORIES:Ultramarathon
CONTACT:Barnabas Bardos
CLASS:PUBLIC
PRIORITY:5
TRANSP:OPAQUE
END:VEVENT
END:VCALENDAR
