BEGIN:VCALENDAR
PRODID:-//http://statistik.d-u-v.org//PHP ultracalendar//EN
VERSION:2.0
METHOD:PUBLISH
BEGIN:VEVENT
DTSTAMP:20260423T033355
CREATED:20140822T175347
UID:1776915235.0.65894800-23930@statistik.d-u-v.org
SUMMARY:24h Run Like The Wind Ultra Distance Race
DESCRIPTION: 24h Run Like The Wind Ultra Distance Race\n
  Sam Voltaggio\n
  cscsammy[at]yahoo.com
DTSTART:20141206T103000
DTEND:20141207T235900
LOCATION:Austin, TX\, USA
URL:http://schrodifund.org/RunLiketheWind.htm
CATEGORIES:Ultramarathon
CONTACT:Sam Voltaggio
CLASS:PUBLIC
PRIORITY:5
TRANSP:OPAQUE
END:VEVENT
END:VCALENDAR
