BEGIN:VCALENDAR
PRODID:-//http://statistik.d-u-v.org//PHP ultracalendar//EN
VERSION:2.0
METHOD:PUBLISH
BEGIN:VEVENT
DTSTAMP:20260423T053821
CREATED:20181205T093528
UID:1776922701.0.02070100-23904@statistik.d-u-v.org
SUMMARY:Avalon Benefit 50 Km Run
DESCRIPTION: Avalon Benefit 50 Km Run\n
  Race Director Mike Bone\n
  mike[at]spectrumsports.net
DTSTART:20190112T050000
DTEND:00000000T235900
LOCATION:Avalon, CA\, USA
URL:http://www.avalon50.com/
CATEGORIES:Ultramarathon
CONTACT:Race Director Mike Bone
CLASS:PUBLIC
PRIORITY:5
TRANSP:OPAQUE
END:VEVENT
END:VCALENDAR
